BEGIN:VCALENDAR
VERSION:2.0
PRODID:-//MassHire Merrimack Valley Workforce Development Board - ECPv6.15.20//NONSGML v1.0//EN
CALSCALE:GREGORIAN
METHOD:PUBLISH
X-ORIGINAL-URL:https://www.masshiremvwb.org
X-WR-CALDESC:Events for MassHire Merrimack Valley Workforce Development Board
REFRESH-INTERVAL;VALUE=DURATION:PT1H
X-Robots-Tag:noindex
X-PUBLISHED-TTL:PT1H
BEGIN:VTIMEZONE
TZID:America/New_York
BEGIN:DAYLIGHT
TZOFFSETFROM:-0500
TZOFFSETTO:-0400
TZNAME:EDT
DTSTART:20240310T070000
END:DAYLIGHT
BEGIN:STANDARD
TZOFFSETFROM:-0400
TZOFFSETTO:-0500
TZNAME:EST
DTSTART:20241103T060000
END:STANDARD
BEGIN:DAYLIGHT
TZOFFSETFROM:-0500
TZOFFSETTO:-0400
TZNAME:EDT
DTSTART:20250309T070000
END:DAYLIGHT
BEGIN:STANDARD
TZOFFSETFROM:-0400
TZOFFSETTO:-0500
TZNAME:EST
DTSTART:20251102T060000
END:STANDARD
BEGIN:DAYLIGHT
TZOFFSETFROM:-0500
TZOFFSETTO:-0400
TZNAME:EDT
DTSTART:20260308T070000
END:DAYLIGHT
BEGIN:STANDARD
TZOFFSETFROM:-0400
TZOFFSETTO:-0500
TZNAME:EST
DTSTART:20261101T060000
END:STANDARD
BEGIN:DAYLIGHT
TZOFFSETFROM:-0500
TZOFFSETTO:-0400
TZNAME:EDT
DTSTART:20270314T070000
END:DAYLIGHT
BEGIN:STANDARD
TZOFFSETFROM:-0400
TZOFFSETTO:-0500
TZNAME:EST
DTSTART:20271107T060000
END:STANDARD
END:VTIMEZONE
BEGIN:VEVENT
DTSTART;TZID=America/New_York:20250826T083000
DTEND;TZID=America/New_York:20250826T093000
DTSTAMP:20260422T052249
CREATED:20250820T151738Z
LAST-MODIFIED:20250820T152043Z
UID:18251-1756197000-1756200600@www.masshiremvwb.org
SUMMARY:MMVWB Special Meeting
DESCRIPTION:Special Meeting \n Virtual Zoom Meeting\nMeeting ID: 858 9181 6464\nPasscode: 082661 \nTuesday\, August 26\, 2025\n8:30 AM \nMeeting Agenda \n  \n\nCall to Order – Juan Yepez\, MMVWB Chair\nApproval of the MMVWB FY26 Annual Plan to be submitted to City of Lawrence Mayor and MDCS by August 29\, 2025 (vote required)\nAdjournment (vote required)
URL:https://www.masshiremvwb.org/event/mmvwb-special-meeting/
END:VEVENT
BEGIN:VEVENT
DTSTART;TZID=America/New_York:20260114T110000
DTEND;TZID=America/New_York:20260114T120000
DTSTAMP:20260422T052249
CREATED:20240605T161047Z
LAST-MODIFIED:20260107T195116Z
UID:18042-1768388400-1768392000@www.masshiremvwb.org
SUMMARY:MMVWB Youth Committee Meeting
DESCRIPTION:YOUTH COMMITTEE \nWednesday\, January 14\, 2026\n11:00 a.m. \nRemote Meeting via ZOOM\nMeeting ID: 837 0617 9904\nPasscode: 082661 \nMeeting Agenda \nI. Call to Order and Welcome – Cal Williams\, Committee Chair \nII. Approval of the Minutes of the October 8\, 2025\, meeting (vote required) \nIII. WIOA Program Update \nIV. YouthWorks and Connecting Activities Update \nV. Partner’s Information \nVI. Other Business \nVII. Adjourn (vote required) \n 
URL:https://www.masshiremvwb.org/event/mmvwb-youth-committee-meeting/
END:VEVENT
BEGIN:VEVENT
DTSTART;TZID=America/New_York:20260421T090000
DTEND;TZID=America/New_York:20260421T100000
DTSTAMP:20260422T052249
CREATED:20250211T130030Z
LAST-MODIFIED:20260414T140254Z
UID:16046-1776762000-1776765600@www.masshiremvwb.org
SUMMARY:Planning/Career Center Committee Meeting
DESCRIPTION:April 21\, 2026\n9:00 am \nRemote Meeting via Zoom\nMeeting ID: 828 5991 2763\nPasscode: 102102 \nMeeting Notice and Agenda \n  \nI. Call to Order \nII. Approval of the Minutes of the March 17\, 2026\, meeting (vote required) \nIII. Performance Summary Update \nIV. Budget Update \nV. Career Center Report \nVI. Other Business \nVII. Adjourn (vote required) \n  \nMassHire MVWB does not discriminate on the basis of disability and is committed to providing accessible programs\, meetings and events.  To request a reasonable modification to participate in this meeting\, please contact Lynda Buote\, Office Manager at lbuote@masshiremvwb.org. \n 
URL:https://www.masshiremvwb.org/event/planning-career-center-committee-meeting/
CATEGORIES:Committee Meeting
END:VEVENT
BEGIN:VEVENT
DTSTART;TZID=America/New_York:20260428T073000
DTEND;TZID=America/New_York:20260428T093000
DTSTAMP:20260422T052249
CREATED:20240617T120034Z
LAST-MODIFIED:20260421T173647Z
UID:16049-1777361400-1777368600@www.masshiremvwb.org
SUMMARY:MassHire MVWB Quarterly Meeting
DESCRIPTION:QUARTERLY MEETING\n  \nMassHire Merrimack Valley Workforce Board\nTuesday\, April 28\, 2026\n7:30 am\n\nREVISED MEETING NOTICE AND AGENDA\n1. Call to Order – Juan Yepez\, MMVWB Chair \n2. Welcome and Introductions \n3. Approval of the January 27\, 2026\, MMVWB Quarterly Meeting Minutes (vote required) \n4.Guest Speaker: John Mitchitson\, Councilor\, City of Haverhill \n5. Report of Chair – Juan Yepez \n6. Reports of Committee Chairs \ni. Planning and Career Center Committee – Frank Surillo\nii. Youth Committee – Calvin Williams\niii. Nominating Committee – Billy Lang\niv. Finance Report \n7. Report of Executive Director – Frank Bonet \n8. Other Business \n9. Adjournment (vote required)
URL:https://www.masshiremvwb.org/event/mvwib-meeting/
END:VEVENT
END:VCALENDAR